
BEGIN:VCALENDAR
VERSION:2.0
PRODID:-//85.13.157.133//NONSGML kigkonsult.se iCalcreator 2.20//
CALSCALE:GREGORIAN
METHOD:PUBLISH
X-WR-TIMEZONE:Europe/Berlin
BEGIN:VEVENT
UID:event3559@NaturFreunde Bielefeld e.V.
DTSTAMP:20260423T115600Z
CATEGORIES:Kanu
DESCRIPTION:Bezirkssicherheitsschulung. Wir erarbeiten Sicherheitsaspekte i
 m Kanusport in Theorie und Praxis.\nKategorie: Kanu\nICS-Link: https://www
 .test.naturfreunde-bielefeld.de/index.php?option=com_jem&view=event&id=355
 9:bezirkssicherheitsschulung-wir-erarbeiten-sicherheitsaspekte-im-kanuspor
 t-in-theorie-und-praxis\n
DTSTART;VALUE=DATE:20250510
DTEND;VALUE=DATE:20250512
SUMMARY:Bezirkssicherheitsschulung. Wir erarbeiten Sicherheitsaspekte im Ka
 nusport in Theorie und Praxis.
URL:https://www.test.naturfreunde-bielefeld.de/index.php?option=com_jem&vie
 w=event&id=3559:bezirkssicherheitsschulung-wir-erarbeiten-sicherheitsaspek
 te-im-kanusport-in-theorie-und-praxis
END:VEVENT
END:VCALENDAR
