
BEGIN:VCALENDAR
VERSION:2.0
PRODID:-//85.13.157.133//NONSGML kigkonsult.se iCalcreator 2.20//
CALSCALE:GREGORIAN
METHOD:PUBLISH
X-WR-TIMEZONE:Europe/Berlin
BEGIN:VEVENT
UID:event3560@NaturFreunde Bielefeld e.V.
DTSTAMP:20260421T134642Z
CATEGORIES:Radtouren
DESCRIPTION:Radtour im Bio-Bike-Tempo in das lipp. Heddesen. 58 km. Kürzere
  Strecken auch Naturbelag. Mit Einkehr\nKategorie: Radtouren\nICS-Link: ht
 tps://www.test.naturfreunde-bielefeld.de/index.php?option=com_jem&view=eve
 nt&id=3560:radtour-im-bio-bike-tempo-in-das-lipp-heddesen-58-km-kuerzere-s
 trecken-auch-naturbelag-mit-einkehr\n
DTSTART;VALUE=DATE:20250510
DTEND;VALUE=DATE:20250511
SUMMARY:Radtour im Bio-Bike-Tempo in das lipp. Heddesen. 58 km. Kürzere Str
 ecken auch Naturbelag. Mit Einkehr
URL:https://www.test.naturfreunde-bielefeld.de/index.php?option=com_jem&vie
 w=event&id=3560:radtour-im-bio-bike-tempo-in-das-lipp-heddesen-58-km-kuerz
 ere-strecken-auch-naturbelag-mit-einkehr
END:VEVENT
END:VCALENDAR
