
BEGIN:VCALENDAR
VERSION:2.0
PRODID:-//85.13.157.133//NONSGML kigkonsult.se iCalcreator 2.20//
CALSCALE:GREGORIAN
METHOD:PUBLISH
X-WR-TIMEZONE:Europe/Berlin
BEGIN:VEVENT
UID:event3562@NaturFreunde Bielefeld e.V.
DTSTAMP:20260419T221908Z
CATEGORIES:Wanderungen
DESCRIPTION:Wanderung von Bi-Brackwede BHF über den Naturfreundegarten in d
 ie Innenstadt im Rahmen von 'Frieden in Bewegung'\;Länge ca. 9 km\, Start 
 um 11:45 Uhr\, Imbiss am NFJ-Garten\, Anmeldung an Ralf Wächter Tel. 0521 
 58819137 oder ralf-waechter@web.de\nKategorie: Wanderungen\nICS-Link: http
 s://www.test.naturfreunde-bielefeld.de/index.php?option=com_jem&view=event
 &id=3562:wanderung-von-bi-brackwede-bhf-ueber-den-naturfreundegarten-in-di
 e-innenstadt-im-rahmen-von-frieden-in-bewegung-laenge-ca-9-km-start-um-11-
 45-uhr-imbiss-am-nfj-garten-anmeldung-an-ralf-waechter-tel-0521-58819137-o
 der-ralf-waechter-web-de\n
DTSTART;VALUE=DATE:20250515
DTEND;VALUE=DATE:20250516
SUMMARY:Wanderung von Bi-Brackwede BHF über den Naturfreundegarten in die I
 nnenstadt im Rahmen von 'Frieden in Bewegung'\;Länge ca. 9 km\, Start um 1
 1:45 Uhr\, Imbiss am NFJ-Garten\, Anmeldung an Ralf Wächter Tel. 0521 5881
 9137 oder ralf-waechter@web.de
URL:https://www.test.naturfreunde-bielefeld.de/index.php?option=com_jem&vie
 w=event&id=3562:wanderung-von-bi-brackwede-bhf-ueber-den-naturfreundegarte
 n-in-die-innenstadt-im-rahmen-von-frieden-in-bewegung-laenge-ca-9-km-start
 -um-11-45-uhr-imbiss-am-nfj-garten-anmeldung-an-ralf-waechter-tel-0521-588
 19137-oder-ralf-waechter-web-de
END:VEVENT
END:VCALENDAR
