
BEGIN:VCALENDAR
VERSION:2.0
PRODID:-//85.13.157.133//NONSGML kigkonsult.se iCalcreator 2.20//
CALSCALE:GREGORIAN
METHOD:PUBLISH
X-WR-TIMEZONE:Europe/Berlin
BEGIN:VEVENT
UID:event3563@NaturFreunde Bielefeld e.V.
DTSTAMP:20260419T221443Z
CATEGORIES:Ortsgruppe
DESCRIPTION:Radtour\, ca. 40 km\, von Rheda über den NFJ Garten (Imbiss) bi
 s Bielefeld Rathaus\nKategorie: Ortsgruppe\nICS-Link: https://www.test.nat
 urfreunde-bielefeld.de/index.php?option=com_jem&view=event&id=3563:radtour
 -ca-40-km-von-rheda-ueber-den-nfj-garten-imbiss-bis-bielefeld-rathaus\n
DTSTART;VALUE=DATE:20250515
DTEND;VALUE=DATE:20250516
SUMMARY:Radtour\, ca. 40 km\, von Rheda über den NFJ Garten (Imbiss) bis Bi
 elefeld Rathaus
URL:https://www.test.naturfreunde-bielefeld.de/index.php?option=com_jem&vie
 w=event&id=3563:radtour-ca-40-km-von-rheda-ueber-den-nfj-garten-imbiss-bis
 -bielefeld-rathaus
END:VEVENT
END:VCALENDAR
