
BEGIN:VCALENDAR
VERSION:2.0
PRODID:-//85.13.157.133//NONSGML kigkonsult.se iCalcreator 2.20//
CALSCALE:GREGORIAN
METHOD:PUBLISH
X-WR-TIMEZONE:Europe/Berlin
BEGIN:VEVENT
UID:event3564@NaturFreunde Bielefeld e.V.
DTSTAMP:20260419T221334Z
CATEGORIES:Ortsgruppe
DESCRIPTION:Wanderung ca. 10 km\, von Brackwede Bahnhof über den NFJ Garten
  (Imbiss) bis Bielefeld Rathaus\nKategorie: Ortsgruppe\nICS-Link: https://
 www.test.naturfreunde-bielefeld.de/index.php?option=com_jem&view=event&id=
 3564:wanderung-ca-10-km-von-brackwede-bahnhof-ueber-den-nfj-garten-imbiss-
 bis-bielefeld-rathaus\n
DTSTART;VALUE=DATE:20250515
DTEND;VALUE=DATE:20250516
SUMMARY:Wanderung ca. 10 km\, von Brackwede Bahnhof über den NFJ Garten (Im
 biss) bis Bielefeld Rathaus
URL:https://www.test.naturfreunde-bielefeld.de/index.php?option=com_jem&vie
 w=event&id=3564:wanderung-ca-10-km-von-brackwede-bahnhof-ueber-den-nfj-gar
 ten-imbiss-bis-bielefeld-rathaus
END:VEVENT
END:VCALENDAR
