
BEGIN:VCALENDAR
VERSION:2.0
PRODID:-//85.13.157.133//NONSGML kigkonsult.se iCalcreator 2.20//
CALSCALE:GREGORIAN
METHOD:PUBLISH
X-WR-TIMEZONE:Europe/Berlin
BEGIN:VEVENT
UID:event3565@NaturFreunde Bielefeld e.V.
DTSTAMP:20260419T221920Z
CATEGORIES:Ortsgruppe
DESCRIPTION:ab 15 Uhr Empfang beim Bürgermeister und Stadtrundgang zum jüdi
 schen Leben in Bielefeld mit Dirk Ukena\nKategorie: Ortsgruppe\nICS-Link: 
 https://www.test.naturfreunde-bielefeld.de/index.php?option=com_jem&view=e
 vent&id=3565:ab-15-uhr-empfang-beim-buergermeister-und-stadtrundgang-zum-j
 uedischen-leben-in-bielefeld-mit-dirk-ukena\n
DTSTART;VALUE=DATE:20250515
DTEND;VALUE=DATE:20250516
SUMMARY:ab 15 Uhr Empfang beim Bürgermeister und Stadtrundgang zum jüdische
 n Leben in Bielefeld mit Dirk Ukena
URL:https://www.test.naturfreunde-bielefeld.de/index.php?option=com_jem&vie
 w=event&id=3565:ab-15-uhr-empfang-beim-buergermeister-und-stadtrundgang-zu
 m-juedischen-leben-in-bielefeld-mit-dirk-ukena
END:VEVENT
END:VCALENDAR
