
BEGIN:VCALENDAR
VERSION:2.0
PRODID:-//85.13.157.133//NONSGML kigkonsult.se iCalcreator 2.20//
CALSCALE:GREGORIAN
METHOD:PUBLISH
X-WR-TIMEZONE:Europe/Berlin
BEGIN:VEVENT
UID:event3566@NaturFreunde Bielefeld e.V.
DTSTAMP:20260419T202944Z
CATEGORIES:Ortsgruppe
DESCRIPTION:Wanderung ca. 12 km mit eigener Rucksackverpflegung\, von Hövel
 riege zum Stalag 326\, dort um 12 Uhr Führung (diese nur mit Anmeldung)\nK
 ategorie: Ortsgruppe\nICS-Link: https://www.test.naturfreunde-bielefeld.de
 /index.php?option=com_jem&view=event&id=3566:wanderung-ca-12-km-mit-eigene
 r-rucksackverpflegung-von-hoevelriege-zum-stalag-326-dort-um-12-uhr-fuehru
 ng-diese-nur-mit-anmeldung\n
DTSTART;VALUE=DATE:20250516
DTEND;VALUE=DATE:20250517
SUMMARY:Wanderung ca. 12 km mit eigener Rucksackverpflegung\, von Hövelrieg
 e zum Stalag 326\, dort um 12 Uhr Führung (diese nur mit Anmeldung)
URL:https://www.test.naturfreunde-bielefeld.de/index.php?option=com_jem&vie
 w=event&id=3566:wanderung-ca-12-km-mit-eigener-rucksackverpflegung-von-hoe
 velriege-zum-stalag-326-dort-um-12-uhr-fuehrung-diese-nur-mit-anmeldung
END:VEVENT
END:VCALENDAR
