
BEGIN:VCALENDAR
VERSION:2.0
PRODID:-//85.13.157.133//NONSGML kigkonsult.se iCalcreator 2.20//
CALSCALE:GREGORIAN
METHOD:PUBLISH
X-WR-TIMEZONE:Europe/Berlin
BEGIN:VEVENT
UID:event3567@NaturFreunde Bielefeld e.V.
DTSTAMP:20260419T203005Z
CATEGORIES:Ortsgruppe
DESCRIPTION:Radtour ca. 65 km (hin u. zurück)\, Packtaschenverpflegung\, 9 
 Uhr ab Siegfriedplatz zum Stalag 326\, dort um 12 Uhr Führung (diese nur m
 it Anmeldung)\nKategorie: Ortsgruppe\nICS-Link: https://www.test.naturfreu
 nde-bielefeld.de/index.php?option=com_jem&view=event&id=3567:radtour-ca-65
 -km-hin-u-zurueck-packtaschenverpflegung-9-uhr-ab-siegfriedplatz-zum-stala
 g-326-dort-um-12-uhr-fuehrung-diese-nur-mit-anmeldung\n
DTSTART;VALUE=DATE:20250516
DTEND;VALUE=DATE:20250517
SUMMARY:Radtour ca. 65 km (hin u. zurück)\, Packtaschenverpflegung\, 9 Uhr 
 ab Siegfriedplatz zum Stalag 326\, dort um 12 Uhr Führung (diese nur mit A
 nmeldung)
URL:https://www.test.naturfreunde-bielefeld.de/index.php?option=com_jem&vie
 w=event&id=3567:radtour-ca-65-km-hin-u-zurueck-packtaschenverpflegung-9-uh
 r-ab-siegfriedplatz-zum-stalag-326-dort-um-12-uhr-fuehrung-diese-nur-mit-a
 nmeldung
END:VEVENT
END:VCALENDAR
