
BEGIN:VCALENDAR
VERSION:2.0
PRODID:-//85.13.157.133//NONSGML kigkonsult.se iCalcreator 2.20//
CALSCALE:GREGORIAN
METHOD:PUBLISH
X-WR-TIMEZONE:Europe/Berlin
BEGIN:VEVENT
UID:event3568@NaturFreunde Bielefeld e.V.
DTSTAMP:20260421T105312Z
CATEGORIES:Ortsgruppe
DESCRIPTION:19 Uhr gemeinsames Grillen für Alle auf dem Meierhof\, gerne Sa
 late mitbringen\nKategorie: Ortsgruppe\nICS-Link: https://www.test.naturfr
 eunde-bielefeld.de/index.php?option=com_jem&view=event&id=3568:19-uhr-geme
 insames-grillen-fuer-alle-auf-dem-meierhof-gerne-salate-mitbringen\n
DTSTART;VALUE=DATE:20250516
DTEND;VALUE=DATE:20250517
SUMMARY:19 Uhr gemeinsames Grillen für Alle auf dem Meierhof\, gerne Salate
  mitbringen
URL:https://www.test.naturfreunde-bielefeld.de/index.php?option=com_jem&vie
 w=event&id=3568:19-uhr-gemeinsames-grillen-fuer-alle-auf-dem-meierhof-gern
 e-salate-mitbringen
END:VEVENT
END:VCALENDAR
