
BEGIN:VCALENDAR
VERSION:2.0
PRODID:-//85.13.157.133//NONSGML kigkonsult.se iCalcreator 2.20//
CALSCALE:GREGORIAN
METHOD:PUBLISH
X-WR-TIMEZONE:Europe/Berlin
BEGIN:VEVENT
UID:event3569@NaturFreunde Bielefeld e.V.
DTSTAMP:20260419T221823Z
CATEGORIES:Ortsgruppe
DESCRIPTION:20 Uhr es spielt für uns die legendäre bekannte Buschkamp Combo
 \, Lieder zum Mitsingen\, nicht nur gegen den Krieg (Hutkonzert)\nKategori
 e: Ortsgruppe\nICS-Link: https://www.test.naturfreunde-bielefeld.de/index.
 php?option=com_jem&view=event&id=3569:20-uhr-es-spielt-fuer-uns-die-legend
 aere-bekannte-buschkamp-combo-lieder-zum-mitsingen-nicht-nur-gegen-den-kri
 eg-hutkonzert\n
DTSTART;VALUE=DATE:20250516
DTEND;VALUE=DATE:20250517
SUMMARY:20 Uhr es spielt für uns die legendäre bekannte Buschkamp Combo\, L
 ieder zum Mitsingen\, nicht nur gegen den Krieg (Hutkonzert)
URL:https://www.test.naturfreunde-bielefeld.de/index.php?option=com_jem&vie
 w=event&id=3569:20-uhr-es-spielt-fuer-uns-die-legendaere-bekannte-buschkam
 p-combo-lieder-zum-mitsingen-nicht-nur-gegen-den-krieg-hutkonzert
END:VEVENT
END:VCALENDAR
