
BEGIN:VCALENDAR
VERSION:2.0
PRODID:-//85.13.157.133//NONSGML kigkonsult.se iCalcreator 2.20//
CALSCALE:GREGORIAN
METHOD:PUBLISH
X-WR-TIMEZONE:Europe/Berlin
BEGIN:VEVENT
UID:event3570@NaturFreunde Bielefeld e.V.
DTSTAMP:20260419T222225Z
CATEGORIES:Kanu
DESCRIPTION:1. DKV Anfängerschulung/Schnupperfahrt auf der Werre. Hier werd
 en Paddelgrundkenntnisse an Land und auf dem Wasser vermittelt\nKategorie:
  Kanu\nICS-Link: https://www.test.naturfreunde-bielefeld.de/index.php?opti
 on=com_jem&view=event&id=3570:1-dkv-anfaengerschulung-schnupperfahrt-auf-d
 er-werre-hier-werden-paddelgrundkenntnisse-an-land-und-auf-dem-wasser-verm
 ittelt\n
DTSTART;VALUE=DATE:20250517
DTEND;VALUE=DATE:20250518
SUMMARY:1. DKV Anfängerschulung/Schnupperfahrt auf der Werre. Hier werden P
 addelgrundkenntnisse an Land und auf dem Wasser vermittelt
URL:https://www.test.naturfreunde-bielefeld.de/index.php?option=com_jem&vie
 w=event&id=3570:1-dkv-anfaengerschulung-schnupperfahrt-auf-der-werre-hier-
 werden-paddelgrundkenntnisse-an-land-und-auf-dem-wasser-vermittelt
END:VEVENT
END:VCALENDAR
