
BEGIN:VCALENDAR
VERSION:2.0
PRODID:-//85.13.157.133//NONSGML kigkonsult.se iCalcreator 2.20//
CALSCALE:GREGORIAN
METHOD:PUBLISH
X-WR-TIMEZONE:Europe/Berlin
BEGIN:VEVENT
UID:event3571@NaturFreunde Bielefeld e.V.
DTSTAMP:20260419T202929Z
CATEGORIES:Ortsgruppe
DESCRIPTION:Wanderung ca. 14 km ab Sieker-Endstation um 11 Uhr zum NFH Oerl
 inghausen\, zurück mit Ãƒâ€“ffis \nKategorie: Ortsgruppe\nICS-Link: https:
 //www.test.naturfreunde-bielefeld.de/index.php?option=com_jem&view=event&i
 d=3571:wanderung-ca-14-km-ab-sieker-endstation-um-11-uhr-zum-nfh-oerlingha
 usen-zurueck-mit-oeffis\n
DTSTART;VALUE=DATE:20250517
DTEND;VALUE=DATE:20250518
SUMMARY:Wanderung ca. 14 km ab Sieker-Endstation um 11 Uhr zum NFH Oerlingh
 ausen\, zurück mit Ãƒâ€“ffis 
URL:https://www.test.naturfreunde-bielefeld.de/index.php?option=com_jem&vie
 w=event&id=3571:wanderung-ca-14-km-ab-sieker-endstation-um-11-uhr-zum-nfh-
 oerlinghausen-zurueck-mit-oeffis
END:VEVENT
END:VCALENDAR
