
BEGIN:VCALENDAR
VERSION:2.0
PRODID:-//85.13.157.133//NONSGML kigkonsult.se iCalcreator 2.20//
CALSCALE:GREGORIAN
METHOD:PUBLISH
X-WR-TIMEZONE:Europe/Berlin
BEGIN:VEVENT
UID:event3572@NaturFreunde Bielefeld e.V.
DTSTAMP:20260419T222119Z
CATEGORIES:Ortsgruppe
DESCRIPTION:Radtour ca. 45 km (hin u.zurück) um 11 Uhr ab Siegfriedplatz zu
 m NFH Oerlinghausen\nKategorie: Ortsgruppe\nICS-Link: https://www.test.nat
 urfreunde-bielefeld.de/index.php?option=com_jem&view=event&id=3572:radtour
 -ca-45-km-hin-u-zurueck-um-11-uhr-ab-siegfriedplatz-zum-nfh-oerlinghausen
 \n
DTSTART;VALUE=DATE:20250517
DTEND;VALUE=DATE:20250518
SUMMARY:Radtour ca. 45 km (hin u.zurück) um 11 Uhr ab Siegfriedplatz zum NF
 H Oerlinghausen
URL:https://www.test.naturfreunde-bielefeld.de/index.php?option=com_jem&vie
 w=event&id=3572:radtour-ca-45-km-hin-u-zurueck-um-11-uhr-ab-siegfriedplatz
 -zum-nfh-oerlinghausen
END:VEVENT
END:VCALENDAR
