
BEGIN:VCALENDAR
VERSION:2.0
PRODID:-//85.13.157.133//NONSGML kigkonsult.se iCalcreator 2.20//
CALSCALE:GREGORIAN
METHOD:PUBLISH
X-WR-TIMEZONE:Europe/Berlin
BEGIN:VEVENT
UID:event3573@NaturFreunde Bielefeld e.V.
DTSTAMP:20260419T222439Z
CATEGORIES:Ortsgruppe
DESCRIPTION:15 Uhr wir pflanzen am NFH Oerlinghausen eine Friedenslinde und
  den Baum des Jahres\, anschließend Kaffee und Kuchen\nKategorie: Ortsgrup
 pe\nICS-Link: https://www.test.naturfreunde-bielefeld.de/index.php?option=
 com_jem&view=event&id=3573:15-uhr-wir-pflanzen-am-nfh-oerlinghausen-eine-f
 riedenslinde-und-den-baum-des-jahres-anschliessend-kaffee-und-kuchen\n
DTSTART;VALUE=DATE:20250517
DTEND;VALUE=DATE:20250518
SUMMARY:15 Uhr wir pflanzen am NFH Oerlinghausen eine Friedenslinde und den
  Baum des Jahres\, anschließend Kaffee und Kuchen
URL:https://www.test.naturfreunde-bielefeld.de/index.php?option=com_jem&vie
 w=event&id=3573:15-uhr-wir-pflanzen-am-nfh-oerlinghausen-eine-friedenslind
 e-und-den-baum-des-jahres-anschliessend-kaffee-und-kuchen
END:VEVENT
END:VCALENDAR
