
BEGIN:VCALENDAR
VERSION:2.0
PRODID:-//85.13.157.133//NONSGML kigkonsult.se iCalcreator 2.20//
CALSCALE:GREGORIAN
METHOD:PUBLISH
X-WR-TIMEZONE:Europe/Berlin
BEGIN:VEVENT
UID:event3574@NaturFreunde Bielefeld e.V.
DTSTAMP:20260419T202707Z
CATEGORIES:Jugend
DESCRIPTION:Ith-Kletterwochenende 1. Alter ab 10 bis 26 Jahren\nKategorie: 
 Jugend\nICS-Link: https://www.test.naturfreunde-bielefeld.de/index.php?opt
 ion=com_jem&view=event&id=3574:ith-kletterwochenende-1-alter-ab-10-bis-26-
 jahren\n
DTSTART;VALUE=DATE:20250517
DTEND;VALUE=DATE:20250519
SUMMARY:Ith-Kletterwochenende 1. Alter ab 10 bis 26 Jahren
URL:https://www.test.naturfreunde-bielefeld.de/index.php?option=com_jem&vie
 w=event&id=3574:ith-kletterwochenende-1-alter-ab-10-bis-26-jahren
END:VEVENT
END:VCALENDAR
