
BEGIN:VCALENDAR
VERSION:2.0
PRODID:-//85.13.157.133//NONSGML kigkonsult.se iCalcreator 2.20//
CALSCALE:GREGORIAN
METHOD:PUBLISH
X-WR-TIMEZONE:Europe/Berlin
BEGIN:VEVENT
UID:event3575@NaturFreunde Bielefeld e.V.
DTSTAMP:20260421T122537Z
CATEGORIES:Ortsgruppe
DESCRIPTION:Radtour ca. 65 km (hin u. zurück)\, 9 Uhr ab Siegfriedplatz zur
  Bifurkation von Hase und Else (in Melle-Gesmold)\, Packtaschenverpflegung
 \nKategorie: Ortsgruppe\nICS-Link: https://www.test.naturfreunde-bielefeld
 .de/index.php?option=com_jem&view=event&id=3575:radtour-ca-65-km-hin-u-zur
 ueck-9-uhr-ab-siegfriedplatz-zur-bifurkation-von-hase-und-else-in-melle-ge
 smold-packtaschenverpflegung\n
DTSTART;VALUE=DATE:20250518
DTEND;VALUE=DATE:20250519
SUMMARY:Radtour ca. 65 km (hin u. zurück)\, 9 Uhr ab Siegfriedplatz zur Bif
 urkation von Hase und Else (in Melle-Gesmold)\, Packtaschenverpflegung
URL:https://www.test.naturfreunde-bielefeld.de/index.php?option=com_jem&vie
 w=event&id=3575:radtour-ca-65-km-hin-u-zurueck-9-uhr-ab-siegfriedplatz-zur
 -bifurkation-von-hase-und-else-in-melle-gesmold-packtaschenverpflegung
END:VEVENT
END:VCALENDAR
