
BEGIN:VCALENDAR
VERSION:2.0
PRODID:-//85.13.157.133//NONSGML kigkonsult.se iCalcreator 2.20//
CALSCALE:GREGORIAN
METHOD:PUBLISH
X-WR-TIMEZONE:Europe/Berlin
BEGIN:VEVENT
UID:event3576@NaturFreunde Bielefeld e.V.
DTSTAMP:20260423T102058Z
CATEGORIES:Senioren
DESCRIPTION:Seniorenspaziergang mit Magdalene Husemann zu Cafe Kriemelmann 
 in Stieghorst\nKategorie: Senioren\nICS-Link: https://www.test.naturfreund
 e-bielefeld.de/index.php?option=com_jem&view=event&id=3576:seniorenspazier
 gang-mit-magdalene-husemann-zu-cafe-kriemelmann-in-stieghorst\n
DTSTART;VALUE=DATE:20250521
DTEND;VALUE=DATE:20250522
SUMMARY:Seniorenspaziergang mit Magdalene Husemann zu Cafe Kriemelmann in S
 tieghorst
URL:https://www.test.naturfreunde-bielefeld.de/index.php?option=com_jem&vie
 w=event&id=3576:seniorenspaziergang-mit-magdalene-husemann-zu-cafe-kriemel
 mann-in-stieghorst
END:VEVENT
END:VCALENDAR
