
BEGIN:VCALENDAR
VERSION:2.0
PRODID:-//85.13.157.133//NONSGML kigkonsult.se iCalcreator 2.20//
CALSCALE:GREGORIAN
METHOD:PUBLISH
X-WR-TIMEZONE:Europe/Berlin
BEGIN:VEVENT
UID:event3579@NaturFreunde Bielefeld e.V.
DTSTAMP:20260419T203000Z
CATEGORIES:Kanu
DESCRIPTION:Himmelfahrtstreffen. Naturfreunde aus Bremen\, den Niederlanden
  und Bielefeld treffen sich in Bremen zu gemeinsamen Paddel- und Radtouren
 \nKategorie: Kanu\nICS-Link: https://www.test.naturfreunde-bielefeld.de/in
 dex.php?option=com_jem&view=event&id=3579:himmelfahrtstreffen-naturfreunde
 -aus-bremen-den-niederlanden-und-bielefeld-treffen-sich-in-bremen-zu-gemei
 nsamen-paddel-und-radtouren\n
DTSTART;VALUE=DATE:20250528
DTEND;VALUE=DATE:20250602
SUMMARY:Himmelfahrtstreffen. Naturfreunde aus Bremen\, den Niederlanden und
  Bielefeld treffen sich in Bremen zu gemeinsamen Paddel- und Radtouren
URL:https://www.test.naturfreunde-bielefeld.de/index.php?option=com_jem&vie
 w=event&id=3579:himmelfahrtstreffen-naturfreunde-aus-bremen-den-niederland
 en-und-bielefeld-treffen-sich-in-bremen-zu-gemeinsamen-paddel-und-radtoure
 n
END:VEVENT
END:VCALENDAR
