
BEGIN:VCALENDAR
VERSION:2.0
PRODID:-//85.13.157.133//NONSGML kigkonsult.se iCalcreator 2.20//
CALSCALE:GREGORIAN
METHOD:PUBLISH
X-WR-TIMEZONE:Europe/Berlin
BEGIN:VEVENT
UID:event3580@NaturFreunde Bielefeld e.V.
DTSTAMP:20260421T103607Z
CATEGORIES:Wanderungen
DESCRIPTION:Rundwanderung von Borgholzhausen Bhf auf Entdeckerweg mit Varia
 tionen\nKategorie: Wanderungen\nICS-Link: https://www.test.naturfreunde-bi
 elefeld.de/index.php?option=com_jem&view=event&id=3580:rundwanderung-von-b
 orgholzhausen-bhf-auf-entdeckerweg-mit-variationen\n
DTSTART;VALUE=DATE:20250531
DTEND;VALUE=DATE:20250601
SUMMARY:Rundwanderung von Borgholzhausen Bhf auf Entdeckerweg mit Variation
 en
URL:https://www.test.naturfreunde-bielefeld.de/index.php?option=com_jem&vie
 w=event&id=3580:rundwanderung-von-borgholzhausen-bhf-auf-entdeckerweg-mit-
 variationen
END:VEVENT
END:VCALENDAR
