
BEGIN:VCALENDAR
VERSION:2.0
PRODID:-//85.13.157.133//NONSGML kigkonsult.se iCalcreator 2.20//
CALSCALE:GREGORIAN
METHOD:PUBLISH
X-WR-TIMEZONE:Europe/Berlin
BEGIN:VEVENT
UID:event3581@NaturFreunde Bielefeld e.V.
DTSTAMP:20260421T122446Z
CATEGORIES:Kanu
DESCRIPTION:Training an der Slalomstrecke in Hohenlimburg (WW). Wir feilen 
 an den Fahrtechniken und genießen die actionreichen Abfahrten\nKategorie: 
 Kanu\nICS-Link: https://www.test.naturfreunde-bielefeld.de/index.php?optio
 n=com_jem&view=event&id=3581:training-an-der-slalomstrecke-in-hohenlimburg
 -ww-wir-feilen-an-den-fahrtechniken-und-geniessen-die-actionreichen-abfahr
 ten\n
DTSTART;VALUE=DATE:20250601
DTEND;VALUE=DATE:20250602
SUMMARY:Training an der Slalomstrecke in Hohenlimburg (WW). Wir feilen an d
 en Fahrtechniken und genießen die actionreichen Abfahrten
URL:https://www.test.naturfreunde-bielefeld.de/index.php?option=com_jem&vie
 w=event&id=3581:training-an-der-slalomstrecke-in-hohenlimburg-ww-wir-feile
 n-an-den-fahrtechniken-und-geniessen-die-actionreichen-abfahrten
END:VEVENT
END:VCALENDAR
