
BEGIN:VCALENDAR
VERSION:2.0
PRODID:-//85.13.157.133//NONSGML kigkonsult.se iCalcreator 2.20//
CALSCALE:GREGORIAN
METHOD:PUBLISH
X-WR-TIMEZONE:Europe/Berlin
BEGIN:VEVENT
UID:event3584@NaturFreunde Bielefeld e.V.
DTSTAMP:20260419T221817Z
CATEGORIES:Kanu
DESCRIPTION:Wanderfahrt auf der Wümme. Am Pfingstwochenende treffen wir uns
  auf dem Campingplatz in Scheeßel\, paddeln verschiedene Abschnitte der Wü
 mme und verbringen die Abende am Lagerfeuer\nKategorie: Kanu\nICS-Link: ht
 tps://www.test.naturfreunde-bielefeld.de/index.php?option=com_jem&view=eve
 nt&id=3584:wanderfahrt-auf-der-wuemme-am-pfingstwochenende-treffen-wir-uns
 -auf-dem-campingplatz-in-scheessel-paddeln-verschiedene-abschnitte-der-wue
 mme-und-verbringen-die-abende-am-lagerfeuer\n
DTSTART;VALUE=DATE:20250606
DTEND;VALUE=DATE:20250610
SUMMARY:Wanderfahrt auf der Wümme. Am Pfingstwochenende treffen wir uns auf
  dem Campingplatz in Scheeßel\, paddeln verschiedene Abschnitte der Wümme 
 und verbringen die Abende am Lagerfeuer
URL:https://www.test.naturfreunde-bielefeld.de/index.php?option=com_jem&vie
 w=event&id=3584:wanderfahrt-auf-der-wuemme-am-pfingstwochenende-treffen-wi
 r-uns-auf-dem-campingplatz-in-scheessel-paddeln-verschiedene-abschnitte-de
 r-wuemme-und-verbringen-die-abende-am-lagerfeuer
END:VEVENT
END:VCALENDAR
