
BEGIN:VCALENDAR
VERSION:2.0
PRODID:-//85.13.157.133//NONSGML kigkonsult.se iCalcreator 2.20//
CALSCALE:GREGORIAN
METHOD:PUBLISH
X-WR-TIMEZONE:Europe/Berlin
BEGIN:VEVENT
UID:event3585@NaturFreunde Bielefeld e.V.
DTSTAMP:20260419T202728Z
CATEGORIES:Jugend
DESCRIPTION:Pfingstcamp im Ith. Alter ab 18 bis 13 Jahre\nKategorie: Jugend
 \nICS-Link: https://www.test.naturfreunde-bielefeld.de/index.php?option=co
 m_jem&view=event&id=3585:pfingstcamp-im-ith-alter-ab-18-bis-13-jahre\n
DTSTART;VALUE=DATE:20250607
DTEND;VALUE=DATE:20250610
SUMMARY:Pfingstcamp im Ith. Alter ab 18 bis 13 Jahre
URL:https://www.test.naturfreunde-bielefeld.de/index.php?option=com_jem&vie
 w=event&id=3585:pfingstcamp-im-ith-alter-ab-18-bis-13-jahre
END:VEVENT
END:VCALENDAR
