
BEGIN:VCALENDAR
VERSION:2.0
PRODID:-//85.13.157.133//NONSGML kigkonsult.se iCalcreator 2.20//
CALSCALE:GREGORIAN
METHOD:PUBLISH
X-WR-TIMEZONE:Europe/Berlin
BEGIN:VEVENT
UID:event3586@NaturFreunde Bielefeld e.V.
DTSTAMP:20260421T090544Z
CATEGORIES:Kultur
DESCRIPTION:Microsoft beendet den Support für WindowsÃ‚Â 10.Ã‚Â WasÃ‚Â nun?
  Bernd Zeitzen hat Antworten für uns\nKategorie: Kultur\nICS-Link: https:/
 /www.test.naturfreunde-bielefeld.de/index.php?option=com_jem&view=event&id
 =3586:microsoft-beendet-den-support-fuer-windows-10-was-nun-bernd-zeitzen-
 hat-antworten-fuer-uns\n
DTSTART;VALUE=DATE:20250613
DTEND;VALUE=DATE:20250614
SUMMARY:Microsoft beendet den Support für WindowsÃ‚Â 10.Ã‚Â WasÃ‚Â nun? Ber
 nd Zeitzen hat Antworten für uns
URL:https://www.test.naturfreunde-bielefeld.de/index.php?option=com_jem&vie
 w=event&id=3586:microsoft-beendet-den-support-fuer-windows-10-was-nun-bern
 d-zeitzen-hat-antworten-fuer-uns
END:VEVENT
END:VCALENDAR
