
BEGIN:VCALENDAR
VERSION:2.0
PRODID:-//85.13.157.133//NONSGML kigkonsult.se iCalcreator 2.20//
CALSCALE:GREGORIAN
METHOD:PUBLISH
X-WR-TIMEZONE:Europe/Berlin
BEGIN:VEVENT
UID:event3587@NaturFreunde Bielefeld e.V.
DTSTAMP:20260421T121739Z
CATEGORIES:Wanderungen
DESCRIPTION:Wanderung durch das Hesseltal und um die Burg Ravensberg\nKateg
 orie: Wanderungen\nICS-Link: https://www.test.naturfreunde-bielefeld.de/in
 dex.php?option=com_jem&view=event&id=3587:wanderung-durch-das-hesseltal-un
 d-um-die-burg-ravensberg\n
DTSTART;VALUE=DATE:20250614
DTEND;VALUE=DATE:20250615
SUMMARY:Wanderung durch das Hesseltal und um die Burg Ravensberg
URL:https://www.test.naturfreunde-bielefeld.de/index.php?option=com_jem&vie
 w=event&id=3587:wanderung-durch-das-hesseltal-und-um-die-burg-ravensberg
END:VEVENT
END:VCALENDAR
