
BEGIN:VCALENDAR
VERSION:2.0
PRODID:-//85.13.157.133//NONSGML kigkonsult.se iCalcreator 2.20//
CALSCALE:GREGORIAN
METHOD:PUBLISH
X-WR-TIMEZONE:Europe/Berlin
BEGIN:VEVENT
UID:event3588@NaturFreunde Bielefeld e.V.
DTSTAMP:20260419T184202Z
CATEGORIES:Kanu
DESCRIPTION:Training auf der Oker im Harz (WW). Wir paddeln auf der Oker un
 terhalb der Talsperre\nKategorie: Kanu\nICS-Link: https://www.test.naturfr
 eunde-bielefeld.de/index.php?option=com_jem&view=event&id=3588:training-au
 f-der-oker-im-harz-ww-wir-paddeln-auf-der-oker-unterhalb-der-talsperre\n
DTSTART;VALUE=DATE:20250614
DTEND;VALUE=DATE:20250616
SUMMARY:Training auf der Oker im Harz (WW). Wir paddeln auf der Oker unterh
 alb der Talsperre
URL:https://www.test.naturfreunde-bielefeld.de/index.php?option=com_jem&vie
 w=event&id=3588:training-auf-der-oker-im-harz-ww-wir-paddeln-auf-der-oker-
 unterhalb-der-talsperre
END:VEVENT
END:VCALENDAR
