
BEGIN:VCALENDAR
VERSION:2.0
PRODID:-//85.13.157.133//NONSGML kigkonsult.se iCalcreator 2.20//
CALSCALE:GREGORIAN
METHOD:PUBLISH
X-WR-TIMEZONE:Europe/Berlin
BEGIN:VEVENT
UID:event3590@NaturFreunde Bielefeld e.V.
DTSTAMP:20260419T185251Z
CATEGORIES:Mountainbike
DESCRIPTION:MTB-Ladies-Session an den NF-Trails in Oerlinghausen. Für alle 
 Frauen und Mädchen\, die gerne mal ohne Männer biken möchten\nKategorie: M
 ountainbike\nICS-Link: https://www.test.naturfreunde-bielefeld.de/index.ph
 p?option=com_jem&view=event&id=3590:mtb-ladies-session-an-den-nf-trails-in
 -oerlinghausen-fuer-alle-frauen-und-maedchen-die-gerne-mal-ohne-maenner-bi
 ken-moechten\n
DTSTART;VALUE=DATE:20250615
DTEND;VALUE=DATE:20250616
SUMMARY:MTB-Ladies-Session an den NF-Trails in Oerlinghausen. Für alle Frau
 en und Mädchen\, die gerne mal ohne Männer biken möchten
URL:https://www.test.naturfreunde-bielefeld.de/index.php?option=com_jem&vie
 w=event&id=3590:mtb-ladies-session-an-den-nf-trails-in-oerlinghausen-fuer-
 alle-frauen-und-maedchen-die-gerne-mal-ohne-maenner-biken-moechten
END:VEVENT
END:VCALENDAR
