
BEGIN:VCALENDAR
VERSION:2.0
PRODID:-//85.13.157.133//NONSGML kigkonsult.se iCalcreator 2.20//
CALSCALE:GREGORIAN
METHOD:PUBLISH
X-WR-TIMEZONE:Europe/Berlin
BEGIN:VEVENT
UID:event3591@NaturFreunde Bielefeld e.V.
DTSTAMP:20260419T185447Z
CATEGORIES:Nordic Walking
DESCRIPTION:Nordic-Walking rund um unser NFH in Oerlinghausen\, Treff dort 
 um 10 Uhr auf dem Parkplatz\nKategorie: Nordic Walking\nICS-Link: https://
 www.test.naturfreunde-bielefeld.de/index.php?option=com_jem&view=event&id=
 3591:nordic-walking-rund-um-unser-nfh-in-oerlinghausen-treff-dort-um-10-uh
 r-auf-dem-parkplatz\n
DTSTART;VALUE=DATE:20250615
DTEND;VALUE=DATE:20250616
SUMMARY:Nordic-Walking rund um unser NFH in Oerlinghausen\, Treff dort um 1
 0 Uhr auf dem Parkplatz
URL:https://www.test.naturfreunde-bielefeld.de/index.php?option=com_jem&vie
 w=event&id=3591:nordic-walking-rund-um-unser-nfh-in-oerlinghausen-treff-do
 rt-um-10-uhr-auf-dem-parkplatz
END:VEVENT
END:VCALENDAR
