
BEGIN:VCALENDAR
VERSION:2.0
PRODID:-//85.13.157.133//NONSGML kigkonsult.se iCalcreator 2.20//
CALSCALE:GREGORIAN
METHOD:PUBLISH
X-WR-TIMEZONE:Europe/Berlin
BEGIN:VEVENT
UID:event3592@NaturFreunde Bielefeld e.V.
DTSTAMP:20260419T172255Z
CATEGORIES:Senioren
DESCRIPTION:Seniorenspaziergang zu Cafe Kraume\, Am Wellbach. Wir fahren mi
 t der Linie 27 um 13.24 Uhr ab Jahnplatz bis Halhof.  \nKategorie: Seniore
 n\nICS-Link: https://www.test.naturfreunde-bielefeld.de/index.php?option=c
 om_jem&view=event&id=3592:seniorenspaziergang-zu-cafe-kraume-am-wellbach-w
 ir-fahren-mit-der-linie-27-um-13-24-uhr-ab-jahnplatz-bis-halhof\n
DTSTART;VALUE=DATE:20250618
DTEND;VALUE=DATE:20250619
SUMMARY:Seniorenspaziergang zu Cafe Kraume\, Am Wellbach. Wir fahren mit de
 r Linie 27 um 13.24 Uhr ab Jahnplatz bis Halhof.  
URL:https://www.test.naturfreunde-bielefeld.de/index.php?option=com_jem&vie
 w=event&id=3592:seniorenspaziergang-zu-cafe-kraume-am-wellbach-wir-fahren-
 mit-der-linie-27-um-13-24-uhr-ab-jahnplatz-bis-halhof
END:VEVENT
END:VCALENDAR
