
BEGIN:VCALENDAR
VERSION:2.0
PRODID:-//85.13.157.133//NONSGML kigkonsult.se iCalcreator 2.20//
CALSCALE:GREGORIAN
METHOD:PUBLISH
X-WR-TIMEZONE:Europe/Berlin
BEGIN:VEVENT
UID:event3593@NaturFreunde Bielefeld e.V.
DTSTAMP:20260419T172327Z
CATEGORIES:Kanu
DESCRIPTION:Diemel in und um Trendelburg (WA). Wir werden uns auf dem Campi
 ngplatz in Trendelburg treffen Abschnitte der Diemel paddeln\, evtl. radel
 n und die Abende am Lagerfeuer verbringen\nKategorie: Kanu\nICS-Link: http
 s://www.test.naturfreunde-bielefeld.de/index.php?option=com_jem&view=event
 &id=3593:diemel-in-und-um-trendelburg-wa-wir-werden-uns-auf-dem-campingpla
 tz-in-trendelburg-treffen-abschnitte-der-diemel-paddeln-evtl-radeln-und-di
 e-abende-am-lagerfeuer-verbringen\n
DTSTART;VALUE=DATE:20250618
DTEND;VALUE=DATE:20250623
SUMMARY:Diemel in und um Trendelburg (WA). Wir werden uns auf dem Campingpl
 atz in Trendelburg treffen Abschnitte der Diemel paddeln\, evtl. radeln un
 d die Abende am Lagerfeuer verbringen
URL:https://www.test.naturfreunde-bielefeld.de/index.php?option=com_jem&vie
 w=event&id=3593:diemel-in-und-um-trendelburg-wa-wir-werden-uns-auf-dem-cam
 pingplatz-in-trendelburg-treffen-abschnitte-der-diemel-paddeln-evtl-radeln
 -und-die-abende-am-lagerfeuer-verbringen
END:VEVENT
END:VCALENDAR
