
BEGIN:VCALENDAR
VERSION:2.0
PRODID:-//85.13.157.133//NONSGML kigkonsult.se iCalcreator 2.20//
CALSCALE:GREGORIAN
METHOD:PUBLISH
X-WR-TIMEZONE:Europe/Berlin
BEGIN:VEVENT
UID:event3594@NaturFreunde Bielefeld e.V.
DTSTAMP:20260419T171012Z
CATEGORIES:Jugend
DESCRIPTION:Hochschul-Kletter-Wochenende. Alter ab 18 Jahren\nKategorie: Ju
 gend\nICS-Link: https://www.test.naturfreunde-bielefeld.de/index.php?optio
 n=com_jem&view=event&id=3594:hochschul-kletter-wochenende-alter-ab-18-jahr
 en\n
DTSTART;VALUE=DATE:20250619
DTEND;VALUE=DATE:20250623
SUMMARY:Hochschul-Kletter-Wochenende. Alter ab 18 Jahren
URL:https://www.test.naturfreunde-bielefeld.de/index.php?option=com_jem&vie
 w=event&id=3594:hochschul-kletter-wochenende-alter-ab-18-jahren
END:VEVENT
END:VCALENDAR
