
BEGIN:VCALENDAR
VERSION:2.0
PRODID:-//85.13.157.133//NONSGML kigkonsult.se iCalcreator 2.20//
CALSCALE:GREGORIAN
METHOD:PUBLISH
X-WR-TIMEZONE:Europe/Berlin
BEGIN:VEVENT
UID:event3595@NaturFreunde Bielefeld e.V.
DTSTAMP:20260419T171319Z
CATEGORIES:Jugend
DESCRIPTION:CSD Bielefeld gemeinsam mit Demovorbereitung. Für alle Altersgr
 uppen\nKategorie: Jugend\nICS-Link: https://www.test.naturfreunde-bielefel
 d.de/index.php?option=com_jem&view=event&id=3595:csd-bielefeld-gemeinsam-m
 it-demovorbereitung-fuer-alle-altersgruppen\n
DTSTART;VALUE=DATE:20250621
DTEND;VALUE=DATE:20250622
SUMMARY:CSD Bielefeld gemeinsam mit Demovorbereitung. Für alle Altersgruppe
 n
URL:https://www.test.naturfreunde-bielefeld.de/index.php?option=com_jem&vie
 w=event&id=3595:csd-bielefeld-gemeinsam-mit-demovorbereitung-fuer-alle-alt
 ersgruppen
END:VEVENT
END:VCALENDAR
