
BEGIN:VCALENDAR
VERSION:2.0
PRODID:-//85.13.157.133//NONSGML kigkonsult.se iCalcreator 2.20//
CALSCALE:GREGORIAN
METHOD:PUBLISH
X-WR-TIMEZONE:Europe/Berlin
BEGIN:VEVENT
UID:event3598@NaturFreunde Bielefeld e.V.
DTSTAMP:20260419T172111Z
CATEGORIES:Kultur
DESCRIPTION:Rudis Wasserzyklus Teil 6. Wasser und Energie. Rudi stellt uns 
 verschiedene Kraftwerke am Beispiel von Ãƒâ€“sterreich vor\nKategorie: Kul
 tur\nICS-Link: https://www.test.naturfreunde-bielefeld.de/index.php?option
 =com_jem&view=event&id=3598:rudis-wasserzyklus-teil-6-wasser-und-energie-r
 udi-stellt-uns-verschiedene-kraftwerke-am-beispiel-von-oesterreich-vor\n
DTSTART;VALUE=DATE:20250627
DTEND;VALUE=DATE:20250628
SUMMARY:Rudis Wasserzyklus Teil 6. Wasser und Energie. Rudi stellt uns vers
 chiedene Kraftwerke am Beispiel von Ãƒâ€“sterreich vor
URL:https://www.test.naturfreunde-bielefeld.de/index.php?option=com_jem&vie
 w=event&id=3598:rudis-wasserzyklus-teil-6-wasser-und-energie-rudi-stellt-u
 ns-verschiedene-kraftwerke-am-beispiel-von-oesterreich-vor
END:VEVENT
END:VCALENDAR
