
BEGIN:VCALENDAR
VERSION:2.0
PRODID:-//85.13.157.133//NONSGML kigkonsult.se iCalcreator 2.20//
CALSCALE:GREGORIAN
METHOD:PUBLISH
X-WR-TIMEZONE:Europe/Berlin
BEGIN:VEVENT
UID:event3600@NaturFreunde Bielefeld e.V.
DTSTAMP:20260421T133813Z
CATEGORIES:Jugend
DESCRIPTION:Düsterwaldwochenende im Naturfreundegarten. Alter ab 10 Jahren
 \nKategorie: Jugend\nICS-Link: https://www.test.naturfreunde-bielefeld.de/
 index.php?option=com_jem&view=event&id=3600:duesterwaldwochenende-im-natur
 freundegarten-alter-ab-10-jahren\n
DTSTART;VALUE=DATE:20250628
DTEND;VALUE=DATE:20250630
SUMMARY:Düsterwaldwochenende im Naturfreundegarten. Alter ab 10 Jahren
URL:https://www.test.naturfreunde-bielefeld.de/index.php?option=com_jem&vie
 w=event&id=3600:duesterwaldwochenende-im-naturfreundegarten-alter-ab-10-ja
 hren
END:VEVENT
END:VCALENDAR
