
BEGIN:VCALENDAR
VERSION:2.0
PRODID:-//85.13.157.133//NONSGML kigkonsult.se iCalcreator 2.20//
CALSCALE:GREGORIAN
METHOD:PUBLISH
X-WR-TIMEZONE:Europe/Berlin
BEGIN:VEVENT
UID:event3601@NaturFreunde Bielefeld e.V.
DTSTAMP:20260419T171350Z
CATEGORIES:Radtouren
DESCRIPTION:Fahrradtour zur Heerser Mühle\, ca. 60 km\, voraussichtlich mit
  Einkehr\nKategorie: Radtouren\nICS-Link: https://www.test.naturfreunde-bi
 elefeld.de/index.php?option=com_jem&view=event&id=3601:fahrradtour-zur-hee
 rser-muehle-ca-60-km-voraussichtlich-mit-einkehr\n
DTSTART;VALUE=DATE:20250629
DTEND;VALUE=DATE:20250630
SUMMARY:Fahrradtour zur Heerser Mühle\, ca. 60 km\, voraussichtlich mit Ein
 kehr
URL:https://www.test.naturfreunde-bielefeld.de/index.php?option=com_jem&vie
 w=event&id=3601:fahrradtour-zur-heerser-muehle-ca-60-km-voraussichtlich-mi
 t-einkehr
END:VEVENT
END:VCALENDAR
