
BEGIN:VCALENDAR
VERSION:2.0
PRODID:-//85.13.157.133//NONSGML kigkonsult.se iCalcreator 2.20//
CALSCALE:GREGORIAN
METHOD:PUBLISH
X-WR-TIMEZONE:Europe/Berlin
BEGIN:VEVENT
UID:event3604@NaturFreunde Bielefeld e.V.
DTSTAMP:20260419T190056Z
CATEGORIES:Kultur
DESCRIPTION:Nachhaltige Ernährung - ein großes Thema und viele Fragen. Anja
  Bonte gibt einen Einblick in aktuelle Forschungsansätze\nKategorie: Kultu
 r\nICS-Link: https://www.test.naturfreunde-bielefeld.de/index.php?option=c
 om_jem&view=event&id=3604:nachhaltige-ernaehrung-ein-grosses-thema-und-vie
 le-fragen-anja-bonte-gibt-einen-einblick-in-aktuelle-forschungsansaetze\n
DTSTART;VALUE=DATE:20250704
DTEND;VALUE=DATE:20250705
SUMMARY:Nachhaltige Ernährung - ein großes Thema und viele Fragen. Anja Bon
 te gibt einen Einblick in aktuelle Forschungsansätze
URL:https://www.test.naturfreunde-bielefeld.de/index.php?option=com_jem&vie
 w=event&id=3604:nachhaltige-ernaehrung-ein-grosses-thema-und-viele-fragen-
 anja-bonte-gibt-einen-einblick-in-aktuelle-forschungsansaetze
END:VEVENT
END:VCALENDAR
