
BEGIN:VCALENDAR
VERSION:2.0
PRODID:-//85.13.157.133//NONSGML kigkonsult.se iCalcreator 2.20//
CALSCALE:GREGORIAN
METHOD:PUBLISH
X-WR-TIMEZONE:Europe/Berlin
BEGIN:VEVENT
UID:event3605@NaturFreunde Bielefeld e.V.
DTSTAMP:20260419T185431Z
CATEGORIES:Wanderungen
DESCRIPTION:Wanderung vom Kreuzkrug über Falkenburg zu den Externsteine und
  zurück\, Länge ca. 20 km\nKategorie: Wanderungen\nICS-Link: https://www.t
 est.naturfreunde-bielefeld.de/index.php?option=com_jem&view=event&id=3605:
 wanderung-vom-kreuzkrug-ueber-falkenburg-zu-den-externsteine-und-zurueck-l
 aenge-ca-20-km\n
DTSTART;VALUE=DATE:20250705
DTEND;VALUE=DATE:20250706
SUMMARY:Wanderung vom Kreuzkrug über Falkenburg zu den Externsteine und zur
 ück\, Länge ca. 20 km
URL:https://www.test.naturfreunde-bielefeld.de/index.php?option=com_jem&vie
 w=event&id=3605:wanderung-vom-kreuzkrug-ueber-falkenburg-zu-den-externstei
 ne-und-zurueck-laenge-ca-20-km
END:VEVENT
END:VCALENDAR
