
BEGIN:VCALENDAR
VERSION:2.0
PRODID:-//85.13.157.133//NONSGML kigkonsult.se iCalcreator 2.20//
CALSCALE:GREGORIAN
METHOD:PUBLISH
X-WR-TIMEZONE:Europe/Berlin
BEGIN:VEVENT
UID:event3607@NaturFreunde Bielefeld e.V.
DTSTAMP:20260419T202712Z
CATEGORIES:Jugend
DESCRIPTION:Wasserski. Alter ab 10 bis 26 Jahren\nKategorie: Jugend\nICS-Li
 nk: https://www.test.naturfreunde-bielefeld.de/index.php?option=com_jem&vi
 ew=event&id=3607:wasserski-alter-ab-10-bis-26-jahren\n
DTSTART;VALUE=DATE:20250706
DTEND;VALUE=DATE:20250707
SUMMARY:Wasserski. Alter ab 10 bis 26 Jahren
URL:https://www.test.naturfreunde-bielefeld.de/index.php?option=com_jem&vie
 w=event&id=3607:wasserski-alter-ab-10-bis-26-jahren
END:VEVENT
END:VCALENDAR
