
BEGIN:VCALENDAR
VERSION:2.0
PRODID:-//85.13.157.133//NONSGML kigkonsult.se iCalcreator 2.20//
CALSCALE:GREGORIAN
METHOD:PUBLISH
X-WR-TIMEZONE:Europe/Berlin
BEGIN:VEVENT
UID:event3608@NaturFreunde Bielefeld e.V.
DTSTAMP:20260421T115114Z
CATEGORIES:Kanu
DESCRIPTION:Kanu-Camp JEM (WW). Einige unserer Mitglieder fahren zum Canu-C
 amp-JEM nach Golling an der Salzach\nKategorie: Kanu\nICS-Link: https://ww
 w.test.naturfreunde-bielefeld.de/index.php?option=com_jem&view=event&id=36
 08:kanu-camp-jem-ww-einige-unserer-mitglieder-fahren-zum-canu-camp-jem-nac
 h-golling-an-der-salzach\n
DTSTART;VALUE=DATE:20250712
DTEND;VALUE=DATE:20250804
SUMMARY:Kanu-Camp JEM (WW). Einige unserer Mitglieder fahren zum Canu-Camp-
 JEM nach Golling an der Salzach
URL:https://www.test.naturfreunde-bielefeld.de/index.php?option=com_jem&vie
 w=event&id=3608:kanu-camp-jem-ww-einige-unserer-mitglieder-fahren-zum-canu
 -camp-jem-nach-golling-an-der-salzach
END:VEVENT
END:VCALENDAR
