
BEGIN:VCALENDAR
VERSION:2.0
PRODID:-//85.13.157.133//NONSGML kigkonsult.se iCalcreator 2.20//
CALSCALE:GREGORIAN
METHOD:PUBLISH
X-WR-TIMEZONE:Europe/Berlin
BEGIN:VEVENT
UID:event3610@NaturFreunde Bielefeld e.V.
DTSTAMP:20260423T101826Z
CATEGORIES:Jugend
DESCRIPTION:Kinder-Sommer-Camp im Ith. Alter ab 9 bis 13 Jahren\nKategorie:
  Jugend\nICS-Link: https://www.test.naturfreunde-bielefeld.de/index.php?op
 tion=com_jem&view=event&id=3610:kinder-sommer-camp-im-ith-alter-ab-9-bis-1
 3-jahren\n
DTSTART;VALUE=DATE:20250713
DTEND;VALUE=DATE:20250726
SUMMARY:Kinder-Sommer-Camp im Ith. Alter ab 9 bis 13 Jahren
URL:https://www.test.naturfreunde-bielefeld.de/index.php?option=com_jem&vie
 w=event&id=3610:kinder-sommer-camp-im-ith-alter-ab-9-bis-13-jahren
END:VEVENT
END:VCALENDAR
