
BEGIN:VCALENDAR
VERSION:2.0
PRODID:-//85.13.157.133//NONSGML kigkonsult.se iCalcreator 2.20//
CALSCALE:GREGORIAN
METHOD:PUBLISH
X-WR-TIMEZONE:Europe/Berlin
BEGIN:VEVENT
UID:event3612@NaturFreunde Bielefeld e.V.
DTSTAMP:20260421T115156Z
CATEGORIES:Senioren
DESCRIPTION:Seniorenspaziergang im Tierpark Olderdissen. Wir fahren mit der
  Linie 24 um 13.51 Uhr ab Jahnplatz.\nKategorie: Senioren\nICS-Link: https
 ://www.test.naturfreunde-bielefeld.de/index.php?option=com_jem&view=event&
 id=3612:seniorenspaziergang-im-tierpark-olderdissen-wir-fahren-mit-der-lin
 ie-24-um-13-51-uhr-ab-jahnplatz\n
DTSTART;VALUE=DATE:20250716
DTEND;VALUE=DATE:20250717
SUMMARY:Seniorenspaziergang im Tierpark Olderdissen. Wir fahren mit der Lin
 ie 24 um 13.51 Uhr ab Jahnplatz.
URL:https://www.test.naturfreunde-bielefeld.de/index.php?option=com_jem&vie
 w=event&id=3612:seniorenspaziergang-im-tierpark-olderdissen-wir-fahren-mit
 -der-linie-24-um-13-51-uhr-ab-jahnplatz
END:VEVENT
END:VCALENDAR
