
BEGIN:VCALENDAR
VERSION:2.0
PRODID:-//85.13.157.133//NONSGML kigkonsult.se iCalcreator 2.20//
CALSCALE:GREGORIAN
METHOD:PUBLISH
X-WR-TIMEZONE:Europe/Berlin
BEGIN:VEVENT
UID:event3613@NaturFreunde Bielefeld e.V.
DTSTAMP:20260419T171022Z
CATEGORIES:Wanderungen
DESCRIPTION:Wanderung von Bad Driburg nach Altenbeken\, Länge ca. 19 km\nKa
 tegorie: Wanderungen\nICS-Link: https://www.test.naturfreunde-bielefeld.de
 /index.php?option=com_jem&view=event&id=3613:wanderung-von-bad-driburg-nac
 h-altenbeken-laenge-ca-19-km\n
DTSTART;VALUE=DATE:20250719
DTEND;VALUE=DATE:20250720
SUMMARY:Wanderung von Bad Driburg nach Altenbeken\, Länge ca. 19 km
URL:https://www.test.naturfreunde-bielefeld.de/index.php?option=com_jem&vie
 w=event&id=3613:wanderung-von-bad-driburg-nach-altenbeken-laenge-ca-19-km
END:VEVENT
END:VCALENDAR
