
BEGIN:VCALENDAR
VERSION:2.0
PRODID:-//85.13.157.133//NONSGML kigkonsult.se iCalcreator 2.20//
CALSCALE:GREGORIAN
METHOD:PUBLISH
X-WR-TIMEZONE:Europe/Berlin
BEGIN:VEVENT
UID:event3614@NaturFreunde Bielefeld e.V.
DTSTAMP:20260419T153311Z
CATEGORIES:Wanderungen
DESCRIPTION:Abendspaziergang\, ca. 5 km\, Start Haltestelle der Linie 4 Gra
 f-von-Stauffenberg-Str. um 19 Uhr\nKategorie: Wanderungen\nICS-Link: https
 ://www.test.naturfreunde-bielefeld.de/index.php?option=com_jem&view=event&
 id=3614:abendspaziergang-ca-5-km-start-haltestelle-der-linie-4-graf-von-st
 auffenberg-str-um-19-uhr\n
DTSTART;VALUE=DATE:20250726
DTEND;VALUE=DATE:20250727
SUMMARY:Abendspaziergang\, ca. 5 km\, Start Haltestelle der Linie 4 Graf-vo
 n-Stauffenberg-Str. um 19 Uhr
URL:https://www.test.naturfreunde-bielefeld.de/index.php?option=com_jem&vie
 w=event&id=3614:abendspaziergang-ca-5-km-start-haltestelle-der-linie-4-gra
 f-von-stauffenberg-str-um-19-uhr
END:VEVENT
END:VCALENDAR
