
BEGIN:VCALENDAR
VERSION:2.0
PRODID:-//85.13.157.133//NONSGML kigkonsult.se iCalcreator 2.20//
CALSCALE:GREGORIAN
METHOD:PUBLISH
X-WR-TIMEZONE:Europe/Berlin
BEGIN:VEVENT
UID:event3620@NaturFreunde Bielefeld e.V.
DTSTAMP:20260419T184603Z
CATEGORIES:Jugend
DESCRIPTION:Aktiv Camp in Slowenien. Alter ab 15 bis 20 Jahren\nKategorie: 
 Jugend\nICS-Link: https://www.test.naturfreunde-bielefeld.de/index.php?opt
 ion=com_jem&view=event&id=3620:aktiv-camp-in-slowenien-alter-ab-15-bis-20-
 jahren\n
DTSTART;VALUE=DATE:20250810
DTEND;VALUE=DATE:20250825
SUMMARY:Aktiv Camp in Slowenien. Alter ab 15 bis 20 Jahren
URL:https://www.test.naturfreunde-bielefeld.de/index.php?option=com_jem&vie
 w=event&id=3620:aktiv-camp-in-slowenien-alter-ab-15-bis-20-jahren
END:VEVENT
END:VCALENDAR
