
BEGIN:VCALENDAR
VERSION:2.0
PRODID:-//85.13.157.133//NONSGML kigkonsult.se iCalcreator 2.20//
CALSCALE:GREGORIAN
METHOD:PUBLISH
X-WR-TIMEZONE:Europe/Berlin
BEGIN:VEVENT
UID:event3621@NaturFreunde Bielefeld e.V.
DTSTAMP:20260423T084419Z
CATEGORIES:Senioren
DESCRIPTION:Seniorenspaziergang mit Magdalene Husemann zur Eisdiele Oldentr
 up. Wir fahren mit der Linie 4 ab Jahnplatz um 13.35 Uhr bis Stieghorst.\n
 Kategorie: Senioren\nICS-Link: https://www.test.naturfreunde-bielefeld.de/
 index.php?option=com_jem&view=event&id=3621:seniorenspaziergang-mit-magdal
 ene-husemann-zur-eisdiele-oldentrup-wir-fahren-mit-der-linie-4-ab-jahnplat
 z-um-13-35-uhr-bis-stieghorst\n
DTSTART;VALUE=DATE:20250813
DTEND;VALUE=DATE:20250814
SUMMARY:Seniorenspaziergang mit Magdalene Husemann zur Eisdiele Oldentrup. 
 Wir fahren mit der Linie 4 ab Jahnplatz um 13.35 Uhr bis Stieghorst.
URL:https://www.test.naturfreunde-bielefeld.de/index.php?option=com_jem&vie
 w=event&id=3621:seniorenspaziergang-mit-magdalene-husemann-zur-eisdiele-ol
 dentrup-wir-fahren-mit-der-linie-4-ab-jahnplatz-um-13-35-uhr-bis-stieghors
 t
END:VEVENT
END:VCALENDAR
