
BEGIN:VCALENDAR
VERSION:2.0
PRODID:-//85.13.157.133//NONSGML kigkonsult.se iCalcreator 2.20//
CALSCALE:GREGORIAN
METHOD:PUBLISH
X-WR-TIMEZONE:Europe/Berlin
BEGIN:VEVENT
UID:event3625@NaturFreunde Bielefeld e.V.
DTSTAMP:20260419T171906Z
CATEGORIES:Wanderungen
DESCRIPTION:Rundwanderung von Ottbergen über den Kalkmagerrasen\, Länge ca.
  19 km\, 7:30 Uhr Bahnhof\, Rucksackverpflegung\, Kaffeeabschluss wenn mög
 lich\nKategorie: Wanderungen\nICS-Link: https://www.test.naturfreunde-biel
 efeld.de/index.php?option=com_jem&view=event&id=3625:rundwanderung-von-ott
 bergen-ueber-den-kalkmagerrasen-laenge-ca-19-km-7-30-uhr-bahnhof-rucksackv
 erpflegung-kaffeeabschluss-wenn-moeglich\n
DTSTART;VALUE=DATE:20250823
DTEND;VALUE=DATE:20250824
SUMMARY:Rundwanderung von Ottbergen über den Kalkmagerrasen\, Länge ca. 19 
 km\, 7:30 Uhr Bahnhof\, Rucksackverpflegung\, Kaffeeabschluss wenn möglich
URL:https://www.test.naturfreunde-bielefeld.de/index.php?option=com_jem&vie
 w=event&id=3625:rundwanderung-von-ottbergen-ueber-den-kalkmagerrasen-laeng
 e-ca-19-km-7-30-uhr-bahnhof-rucksackverpflegung-kaffeeabschluss-wenn-moegl
 ich
END:VEVENT
END:VCALENDAR
