
BEGIN:VCALENDAR
VERSION:2.0
PRODID:-//85.13.157.133//NONSGML kigkonsult.se iCalcreator 2.20//
CALSCALE:GREGORIAN
METHOD:PUBLISH
X-WR-TIMEZONE:Europe/Berlin
BEGIN:VEVENT
UID:event3626@NaturFreunde Bielefeld e.V.
DTSTAMP:20260419T221241Z
CATEGORIES:Kanu
DESCRIPTION:3. DKV Anfängerschulung/ Lippe als Vorbereitung auf den Kanutri
 athlon\nKategorie: Kanu\nICS-Link: https://www.test.naturfreunde-bielefeld
 .de/index.php?option=com_jem&view=event&id=3626:3-dkv-anfaengerschulung-li
 ppe-als-vorbereitung-auf-den-kanutriathlon\n
DTSTART;VALUE=DATE:20250823
DTEND;VALUE=DATE:20250824
SUMMARY:3. DKV Anfängerschulung/ Lippe als Vorbereitung auf den Kanutriathl
 on
URL:https://www.test.naturfreunde-bielefeld.de/index.php?option=com_jem&vie
 w=event&id=3626:3-dkv-anfaengerschulung-lippe-als-vorbereitung-auf-den-kan
 utriathlon
END:VEVENT
END:VCALENDAR
