
BEGIN:VCALENDAR
VERSION:2.0
PRODID:-//85.13.157.133//NONSGML kigkonsult.se iCalcreator 2.20//
CALSCALE:GREGORIAN
METHOD:PUBLISH
X-WR-TIMEZONE:Europe/Berlin
BEGIN:VEVENT
UID:event3627@NaturFreunde Bielefeld e.V.
DTSTAMP:20260423T101909Z
CATEGORIES:Nordic Walking
DESCRIPTION:Nordic-Walking in der schönen blühenden Moosheide\nKategorie: N
 ordic Walking\nICS-Link: https://www.test.naturfreunde-bielefeld.de/index.
 php?option=com_jem&view=event&id=3627:nordic-walking-in-der-schoenen-blueh
 enden-moosheide\n
DTSTART;VALUE=DATE:20250824
DTEND;VALUE=DATE:20250825
SUMMARY:Nordic-Walking in der schönen blühenden Moosheide
URL:https://www.test.naturfreunde-bielefeld.de/index.php?option=com_jem&vie
 w=event&id=3627:nordic-walking-in-der-schoenen-bluehenden-moosheide
END:VEVENT
END:VCALENDAR
