
BEGIN:VCALENDAR
VERSION:2.0
PRODID:-//85.13.157.133//NONSGML kigkonsult.se iCalcreator 2.20//
CALSCALE:GREGORIAN
METHOD:PUBLISH
X-WR-TIMEZONE:Europe/Berlin
BEGIN:VEVENT
UID:event3629@NaturFreunde Bielefeld e.V.
DTSTAMP:20260419T172121Z
CATEGORIES:Ortsgruppe
DESCRIPTION:Vorbereitung für den Triathlon. 18 Uhr Boote und Fahrräder lade
 n am Naturfreundehaus Heepen\, Heeper Str. 364.\nKategorie: Ortsgruppe\nIC
 S-Link: https://www.test.naturfreunde-bielefeld.de/index.php?option=com_je
 m&view=event&id=3629:vorbereitung-fuer-den-triathlon-18-uhr-boote-und-fahr
 raeder-laden-am-naturfreundehaus-heepen-heeper-str-364\n
DTSTART;VALUE=DATE:20250829
DTEND;VALUE=DATE:20250830
SUMMARY:Vorbereitung für den Triathlon. 18 Uhr Boote und Fahrräder laden am
  Naturfreundehaus Heepen\, Heeper Str. 364.
URL:https://www.test.naturfreunde-bielefeld.de/index.php?option=com_jem&vie
 w=event&id=3629:vorbereitung-fuer-den-triathlon-18-uhr-boote-und-fahrraede
 r-laden-am-naturfreundehaus-heepen-heeper-str-364
END:VEVENT
END:VCALENDAR
