
BEGIN:VCALENDAR
VERSION:2.0
PRODID:-//85.13.157.133//NONSGML kigkonsult.se iCalcreator 2.20//
CALSCALE:GREGORIAN
METHOD:PUBLISH
X-WR-TIMEZONE:Europe/Berlin
BEGIN:VEVENT
UID:event3630@NaturFreunde Bielefeld e.V.
DTSTAMP:20260421T091813Z
CATEGORIES:Jugend
DESCRIPTION:Kanutriathlon. Für alle Altersgruppen\nKategorie: Jugend\nICS-L
 ink: https://www.test.naturfreunde-bielefeld.de/index.php?option=com_jem&v
 iew=event&id=3630:kanutriathlon-fuer-alle-altersgruppen\n
DTSTART;VALUE=DATE:20250830
DTEND;VALUE=DATE:20250831
SUMMARY:Kanutriathlon. Für alle Altersgruppen
URL:https://www.test.naturfreunde-bielefeld.de/index.php?option=com_jem&vie
 w=event&id=3630:kanutriathlon-fuer-alle-altersgruppen
END:VEVENT
END:VCALENDAR
