
BEGIN:VCALENDAR
VERSION:2.0
PRODID:-//85.13.157.133//NONSGML kigkonsult.se iCalcreator 2.20//
CALSCALE:GREGORIAN
METHOD:PUBLISH
X-WR-TIMEZONE:Europe/Berlin
BEGIN:VEVENT
UID:event3632@NaturFreunde Bielefeld e.V.
DTSTAMP:20260421T092001Z
CATEGORIES:Kultur
DESCRIPTION:'Hallau hört hin.' - \;Anlässlich der anstehenden Kommunalwahl 
 besucht uns Dominic Hallau\, Oberbürgermeisterkandidat der Grünen. Beginn 
 um 20 Uhr im Naturfreundehaus Heepen\, Heeper Str. 364.\nKategorie: Kultur
 \nICS-Link: https://www.test.naturfreunde-bielefeld.de/index.php?option=co
 m_jem&view=event&id=3632:hallau-ha-rt-hin-anla-sslich-der-anstehenden-komm
 unalwahl-besucht-uns-dominic-hallau-oberba-1-4rgermeisterkandidat-der-gra-
 1-4nen-beginn-um-20-uhr-im-naturfreundehaus-heepen-heeper-str-364\n
DTSTART;VALUE=DATE:20250905
DTEND;VALUE=DATE:20250906
SUMMARY:'Hallau hört hin.' - \;Anlässlich der anstehenden Kommunalwahl besu
 cht uns Dominic Hallau\, Oberbürgermeisterkandidat der Grünen. Beginn um 2
 0 Uhr im Naturfreundehaus Heepen\, Heeper Str. 364.
URL:https://www.test.naturfreunde-bielefeld.de/index.php?option=com_jem&vie
 w=event&id=3632:hallau-ha-rt-hin-anla-sslich-der-anstehenden-kommunalwahl-
 besucht-uns-dominic-hallau-oberba-1-4rgermeisterkandidat-der-gra-1-4nen-be
 ginn-um-20-uhr-im-naturfreundehaus-heepen-heeper-str-364
END:VEVENT
END:VCALENDAR
